BEGIN:VCALENDAR
VERSION:2.0
PRODID:-//Bellevue UKE&#039;sters - ECPv6.15.20//NONSGML v1.0//EN
CALSCALE:GREGORIAN
METHOD:PUBLISH
X-ORIGINAL-URL:https://ukesters.com
X-WR-CALDESC:Events for Bellevue UKE&#039;sters
REFRESH-INTERVAL;VALUE=DURATION:PT1H
X-Robots-Tag:noindex
X-PUBLISHED-TTL:PT1H
BEGIN:VTIMEZONE
TZID:America/Los_Angeles
BEGIN:DAYLIGHT
TZOFFSETFROM:-0800
TZOFFSETTO:-0700
TZNAME:PDT
DTSTART:20230312T100000
END:DAYLIGHT
BEGIN:STANDARD
TZOFFSETFROM:-0700
TZOFFSETTO:-0800
TZNAME:PST
DTSTART:20231105T090000
END:STANDARD
BEGIN:DAYLIGHT
TZOFFSETFROM:-0800
TZOFFSETTO:-0700
TZNAME:PDT
DTSTART:20240310T100000
END:DAYLIGHT
BEGIN:STANDARD
TZOFFSETFROM:-0700
TZOFFSETTO:-0800
TZNAME:PST
DTSTART:20241103T090000
END:STANDARD
BEGIN:DAYLIGHT
TZOFFSETFROM:-0800
TZOFFSETTO:-0700
TZNAME:PDT
DTSTART:20250309T100000
END:DAYLIGHT
BEGIN:STANDARD
TZOFFSETFROM:-0700
TZOFFSETTO:-0800
TZNAME:PST
DTSTART:20251102T090000
END:STANDARD
END:VTIMEZONE
BEGIN:VEVENT
DTSTART;TZID=America/Los_Angeles:20241204T130000
DTEND;TZID=America/Los_Angeles:20241204T143000
DTSTAMP:20260424T113121
CREATED:20241105T211428Z
LAST-MODIFIED:20241129T202020Z
UID:4762-1733317200-1733322600@ukesters.com
SUMMARY:Gig Practice and Song Circle
DESCRIPTION:We will be running through holiday songs for our upcoming holiday gigs. \nYou can organize your music ahead of time using the Garden d’Lights Christmas performance set list. \nThe most recent versions of all songs can be found under Christmas Music. A single PDF file for use during the performance isn’t yet available (we are still making changes to song notes). \nIf there is time\, then we will have a song circle.  Songs can be picked from  the PURPLE BOOK or the GIG SONGS  \nCome prepared with a list of your favorites!
URL:https://ukesters.com/event/gig-practice-and-song-circle-3/
LOCATION:Silver Glen\, 1750 152nd Ave NE\, Bellevue\, WA\, 98007\, United States
ATTACH;FMTTYPE=image/jpeg:https://ukesters.com/wp-content/uploads/2024/11/HolidayMusic.jpg
END:VEVENT
BEGIN:VEVENT
DTSTART;TZID=America/Los_Angeles:20241206T133000
DTEND;TZID=America/Los_Angeles:20241206T140000
DTSTAMP:20260424T113121
CREATED:20241130T173247Z
LAST-MODIFIED:20241205T172700Z
UID:4858-1733491800-1733493600@ukesters.com
SUMMARY:Aloha Pō’alima
DESCRIPTION:Aloha Pō’alima (Aloha Friday) is an informal gathering to focus on Hawaiian music\, language\, and culture. \nPlease organize your music ahead of time using the list below\, or you can DOWNLOAD THIS PDF file for use with electronic devices. \nSong sheets can be found on the Aloha Friday page\, Christmas Songs page\, or the Gig Song PDFs page. \n\nAloha Friday UKEʻsters\nIsland Style\nSpread a Little Aloha\nMele of My Tutu E\nPaniolo County\nPretty Red Hibiscus\nMy Sweet Gardenia Lei\nKuhio Bay\nKu’u Home O Kahalu’u\nE Kuʻu Morning Dew\nHe Hawaiʻi Au\nUlupalakua\nSong of Christmas\nChristmas Luau\nHawaiian Santa\nMele Kalikimaka Ia Oe\nChristmas Day in Hawaiʻi Nei\nMele Kalikimaka E Nei\nE Hihiwai\nNot Pau\n\n 
URL:https://ukesters.com/event/aloha-poalima-20/
LOCATION:Hale ‘o Kalena\, available by request\, Bellevue\, WA\, 98008
ATTACH;FMTTYPE=image/jpeg:https://ukesters.com/wp-content/uploads/2022/06/AF.jpg
END:VEVENT
BEGIN:VEVENT
DTSTART;TZID=America/Los_Angeles:20241211T130000
DTEND;TZID=America/Los_Angeles:20241211T143000
DTSTAMP:20260424T113121
CREATED:20241105T212037Z
LAST-MODIFIED:20241210T165550Z
UID:4764-1733922000-1733927400@ukesters.com
SUMMARY:Rehearsal for Garden d'Lights Gig
DESCRIPTION:This session is to rehearse for our performance on Thursday December 12 at the Garden d’Lights in Bellevue. \nPlease organize your music ahead of time using the set list. \nOr\, you can DOWNLOAD this PDF file for use on electronic devices. \n 
URL:https://ukesters.com/event/rehearsal-for-garden-dlights-gig/
LOCATION:Silver Glen\, 1750 152nd Ave NE\, Bellevue\, WA\, 98007\, United States
ATTACH;FMTTYPE=image/jpeg:https://ukesters.com/wp-content/uploads/2024/11/HolidayMusic.jpg
END:VEVENT
BEGIN:VEVENT
DTSTART;TZID=America/Los_Angeles:20241212T180000
DTEND;TZID=America/Los_Angeles:20241212T190000
DTSTAMP:20260424T113121
CREATED:20240923T185148Z
LAST-MODIFIED:20241213T164546Z
UID:4691-1734026400-1734030000@ukesters.com
SUMMARY:Garden d'Lights - Bellevue Botanical Gardens (gig)
DESCRIPTION:The UKE’sters have been invited to provide entertainment this December as part of  Garden d’Lights. \nTime: 6:00 PM – 7:00 PM \nPlace: Aaron Education Center – go right after entering the Botanical Garden until you see a wide room with large doors. \nSetup: 5:15 Requested helpers only. \nCall time: 5:30 Please don’t arrive in the EdCenter before 5:30 to facilitate set up. \nAttire: Holiday seasonal and/or holiday Hawaiian \nMusician passes: Will be distributed on 12/11 at Silver Glen \nParking: You can pay for parking in the upper lot or use free lots down the hill at the Elementary School. \nFamily & Friends must PURCHASE TICKETS online (no tickets can be purchased on site) purchase tickets at this link – buy soon as they might sell out – https://book.peek.com/s/6965a3cd-c310-4336-83df-808daa34e684/z7BB6 \nPlease organize your music ahead of time using the set list. \nOr\, you can DOWNLOAD this PDF file for use on electronic devices. \n  \n 
URL:https://ukesters.com/event/garden-dlights-bellevue-botanical-gardens-gig/
LOCATION:Bellevue Botanical Gardens\, 12001 Main Street\, Bellevue\, WA\, 98005\, United States
ATTACH;FMTTYPE=image/jpeg:https://ukesters.com/wp-content/uploads/2022/05/BotanicalGardenLogo.jpg
END:VEVENT
BEGIN:VEVENT
DTSTART;TZID=America/Los_Angeles:20241218T133000
DTEND;TZID=America/Los_Angeles:20241218T153000
DTSTAMP:20260424T113121
CREATED:20240923T184555Z
LAST-MODIFIED:20241213T165206Z
UID:4689-1734528600-1734535800@ukesters.com
SUMMARY:Holiday Celebration - Silver Glen (Gig)
DESCRIPTION:We invite the residents of Silver Glen to join us in an afternoon of holiday cheer. \nArrival time:  1:00pm for those who are setting up the sound system.  1:30pm for everyone else. \nAttire:  holiday seasonal and/or holiday Hawaiian \nBring a Food Item to Share: After the performance there will be refreshments provided by UKE’sters. Silver Glen residents will serve the refreshments and provide coffee.  Refreshments can be savory or sweet\, but please don’t bring a lot.  If everyone brings just a small amount of something we’ll have a nice variety.  If your refreshment item is gluten free or contain nuts\, please make a little card with that information on it.  At our last performance about 60 people attended. \nOur music program is the same songs we played at the Garden d’Lights at the Bellevue Botanical Gardens. \nPlease organize your music ahead of time per the set list. \nOr\, you can DOWNLOAD THIS PDF file for use on electronic devices \n 
URL:https://ukesters.com/event/holiday-celebration-silver-glen/
LOCATION:Silver Glen\, 1750 152nd Ave NE\, Bellevue\, WA\, 98007\, United States
ATTACH;FMTTYPE=image/jpeg:https://ukesters.com/wp-content/uploads/2024/11/HolidayMusic.jpg
END:VEVENT
BEGIN:VEVENT
DTSTART;TZID=America/Los_Angeles:20241220T130000
DTEND;TZID=America/Los_Angeles:20241220T143000
DTSTAMP:20260424T113121
CREATED:20241130T173402Z
LAST-MODIFIED:20241218T192244Z
UID:4860-1734699600-1734705000@ukesters.com
SUMMARY:Aloha Pō’alima
DESCRIPTION:Aloha Pō’alima (Aloha Friday) is an informal gathering to focus on Hawaiian music\, language\, and culture. \nThis Friday is the last Aloha Pō’alima of 2024! \nPlease organize your music ahead of time using the list below\, or you can DOWNLOAD THIS PDF file for use with electronic devices. \nSong sheets can be found on the Aloha Friday page\, Christmas Songs page\, or the Gig Song PDFs page. \n\nAloha Friday UKEʻsters\nIsland Style\nSong of Christmas\nMele Kalikimaka Ia ʻOe (NOTE: NEW VERSION)\nChristmas Luau\nChristmas Day in Hawaiʻi Nei\nHawaiian Santa\nMele Kalikimaka E Nei\nMakaha Moon\nE Kailua E\nMolokaʻi Sweet Home\nE Hihiwai\nYou Kuʻuipo\nHaleakala\nBeautiful Kauaʻi\nMokihana Medley\nKuhio Bay\nPaniolo Country\nFeliz Navidad Kalikimaka Medley\nNot Pau
URL:https://ukesters.com/event/aloha-poalima-21/
LOCATION:Hale ‘o Kalena\, available by request\, Bellevue\, WA\, 98008
ATTACH;FMTTYPE=image/jpeg:https://ukesters.com/wp-content/uploads/2022/06/AF.jpg
END:VEVENT
BEGIN:VEVENT
DTSTART;TZID=America/Los_Angeles:20241225T130000
DTEND;TZID=America/Los_Angeles:20241225T143000
DTSTAMP:20260424T113121
CREATED:20241112T224349Z
LAST-MODIFIED:20241112T224349Z
UID:4815-1735131600-1735137000@ukesters.com
SUMMARY:Merry Christmas - No Song Circle
DESCRIPTION:
URL:https://ukesters.com/event/merry-christmas-no-song-circle/
ATTACH;FMTTYPE=image/jpeg:https://ukesters.com/wp-content/uploads/2024/11/SeasonsAloha.jpg
END:VEVENT
END:VCALENDAR