BEGIN:VCALENDAR
VERSION:2.0
PRODID:-//Bellevue UKE&#039;sters - ECPv6.15.20//NONSGML v1.0//EN
CALSCALE:GREGORIAN
METHOD:PUBLISH
X-ORIGINAL-URL:https://ukesters.com
X-WR-CALDESC:Events for Bellevue UKE&#039;sters
REFRESH-INTERVAL;VALUE=DURATION:PT1H
X-Robots-Tag:noindex
X-PUBLISHED-TTL:PT1H
BEGIN:VTIMEZONE
TZID:America/Los_Angeles
BEGIN:DAYLIGHT
TZOFFSETFROM:-0800
TZOFFSETTO:-0700
TZNAME:PDT
DTSTART:20240310T100000
END:DAYLIGHT
BEGIN:STANDARD
TZOFFSETFROM:-0700
TZOFFSETTO:-0800
TZNAME:PST
DTSTART:20241103T090000
END:STANDARD
BEGIN:DAYLIGHT
TZOFFSETFROM:-0800
TZOFFSETTO:-0700
TZNAME:PDT
DTSTART:20250309T100000
END:DAYLIGHT
BEGIN:STANDARD
TZOFFSETFROM:-0700
TZOFFSETTO:-0800
TZNAME:PST
DTSTART:20251102T090000
END:STANDARD
BEGIN:DAYLIGHT
TZOFFSETFROM:-0800
TZOFFSETTO:-0700
TZNAME:PDT
DTSTART:20260308T100000
END:DAYLIGHT
BEGIN:STANDARD
TZOFFSETFROM:-0700
TZOFFSETTO:-0800
TZNAME:PST
DTSTART:20261101T090000
END:STANDARD
END:VTIMEZONE
BEGIN:VEVENT
DTSTART;TZID=America/Los_Angeles:20250101T130000
DTEND;TZID=America/Los_Angeles:20250101T143000
DTSTAMP:20260424T101121
CREATED:20241112T224508Z
LAST-MODIFIED:20241112T224508Z
UID:4817-1735736400-1735741800@ukesters.com
SUMMARY:Happy New Year - No Song Circle
DESCRIPTION:
URL:https://ukesters.com/event/happy-new-year-no-song-circle/
ATTACH;FMTTYPE=image/jpeg:https://ukesters.com/wp-content/uploads/2024/11/2025.jpg
END:VEVENT
BEGIN:VEVENT
DTSTART;TZID=America/Los_Angeles:20250103T130000
DTEND;TZID=America/Los_Angeles:20250103T143000
DTSTAMP:20260424T101121
CREATED:20241216T222559Z
LAST-MODIFIED:20250102T164113Z
UID:4916-1735909200-1735914600@ukesters.com
SUMMARY:Aloha Pō’alima
DESCRIPTION:Aloha Pō’alima (Aloha Friday) is an informal gathering to focus on Hawaiian music\, language\, and culture. \nThis Friday will be a celebration of the start of 2025! Join us for a Pāʻina Makahiki Hou (New Year Party). \nGlenn is making Portugese Bean Soup! He has asked that you RSVP so that he will know how many people to expect. \nFeel free to bring a snack and/or beverage to share. \n \nPlease organize your music ahead of time using the list (once provided) below\, or you can DOWNLOAD THIS PDF file for use with electronic devices. \nSong sheets can be found on the Aloha Friday page\, or the Gig Song PDFs page. \n\nOli Aloha\nAloha Friday UKEʻsters\nTewetewe\nMakee ‘Ailana\nHaleakala (Kekona)\nMaikaʻi No Kauaʻi\nKuhio Bay\nKa Uluwehi O Ke Kai\nMahina Oa Wau Medley\nKHBC\nGreen Rose Hula\nE Kailua E\nE Hihiwai\nMele Tutu E\nMakaha Moon\nModel T\nRythm of the Ocean (NEW shortened version)\nNorthshore Serenade\nNoho Paipai\nNot Pau
URL:https://ukesters.com/event/aloha-poalima-18/
LOCATION:Hale ‘o Kalena\, available by request\, Bellevue\, WA\, 98008
ATTACH;FMTTYPE=image/jpeg:https://ukesters.com/wp-content/uploads/2022/06/AF.jpg
END:VEVENT
BEGIN:VEVENT
DTSTART;TZID=America/Los_Angeles:20250108T130000
DTEND;TZID=America/Los_Angeles:20250108T143000
DTSTAMP:20260424T101121
CREATED:20241229T191523Z
LAST-MODIFIED:20241229T191523Z
UID:4941-1736341200-1736346600@ukesters.com
SUMMARY:Song Circle
DESCRIPTION:UKE’sters embarks on the New Year today! \nBring a list of your favorites to be ready to pick a song for song circle. \nThis week songs may be chosen from the MISC SONGS or  GIG SONGS
URL:https://ukesters.com/event/song-circle-30/
ATTACH;FMTTYPE=image/jpeg:https://ukesters.com/wp-content/uploads/2024/11/360ukulele.jpg
END:VEVENT
BEGIN:VEVENT
DTSTART;TZID=America/Los_Angeles:20250115T130000
DTEND;TZID=America/Los_Angeles:20250115T143000
DTSTAMP:20260424T101121
CREATED:20250101T230353Z
LAST-MODIFIED:20250101T230353Z
UID:4955-1736946000-1736951400@ukesters.com
SUMMARY:Song Circle
DESCRIPTION:Bring a list of your favorites to be ready to pick a song for song circle. \nThis week songs may be chosen from the TEAL BOOK\, and GIG SONGS 
URL:https://ukesters.com/event/song-circle-31/
ATTACH;FMTTYPE=image/jpeg:https://ukesters.com/wp-content/uploads/2024/11/360ukulele.jpg
END:VEVENT
BEGIN:VEVENT
DTSTART;TZID=America/Los_Angeles:20250117T130000
DTEND;TZID=America/Los_Angeles:20250117T143000
DTSTAMP:20260424T101121
CREATED:20241216T222729Z
LAST-MODIFIED:20250116T030928Z
UID:4918-1737118800-1737124200@ukesters.com
SUMMARY:Aloha Pō’alima
DESCRIPTION:Aloha Pō’alima (Aloha Friday) is an informal gathering to focus on Hawaiian music\, language\, and culture. \nPlease organize your music ahead of time using the list (once provided) below\, or you can DOWNLOAD THIS PDF file for use with electronic devices. \nSong sheets can be found on the Aloha Friday page\, or the Gig Song PDFs page. \n\nAloha Friday UKEʻsters\nSpread A Little Aloha\nTewetewe\nHaleakala (Kekona)\nWaipiʻi (this is a NEW SONG\, find it on the Aloha Friday page)\nMokihana Medley\nWahine Ilikea\nUlili E\nKa Pua E\nLahaina Luna\nKauoha Mai ( Keyhole Hula)\nMolokaʻi Slide\nPretty Red Hibiscus\nKauanoeanuhea\nE Nani E\nMalieʻs Song (A)\nPili Mau Me ʻOe (F/G)\nUlupalakua\nHawaii Aloha
URL:https://ukesters.com/event/aloha-poalima-19/
LOCATION:Hale ‘o Kalena\, available by request\, Bellevue\, WA\, 98008
ATTACH;FMTTYPE=image/jpeg:https://ukesters.com/wp-content/uploads/2022/06/AF.jpg
END:VEVENT
BEGIN:VEVENT
DTSTART;TZID=America/Los_Angeles:20250122T130000
DTEND;TZID=America/Los_Angeles:20250122T143000
DTSTAMP:20260424T101121
CREATED:20250101T230609Z
LAST-MODIFIED:20250101T230728Z
UID:4958-1737550800-1737556200@ukesters.com
SUMMARY:Song Circle
DESCRIPTION:Bring a list of songs to be ready when it’s your turn! \nWe will be using the PURPLE BOOK or the GIG SONGS
URL:https://ukesters.com/event/song-circle-32/
ATTACH;FMTTYPE=image/jpeg:https://ukesters.com/wp-content/uploads/2024/11/360ukulele.jpg
END:VEVENT
BEGIN:VEVENT
DTSTART;TZID=America/Los_Angeles:20250129T130000
DTEND;TZID=America/Los_Angeles:20250129T143000
DTSTAMP:20260424T101121
CREATED:20250104T225731Z
LAST-MODIFIED:20250104T225731Z
UID:4965-1738155600-1738161000@ukesters.com
SUMMARY:Song Circle
DESCRIPTION:We will be using the PURPLE BOOK or the GIG SONGS \nBring a list of songs to be ready when it’s your turn!
URL:https://ukesters.com/event/song-circle-33/
ATTACH;FMTTYPE=image/jpeg:https://ukesters.com/wp-content/uploads/2024/11/360ukulele.jpg
END:VEVENT
BEGIN:VEVENT
DTSTART;TZID=America/Los_Angeles:20250131T130000
DTEND;TZID=America/Los_Angeles:20250131T143000
DTSTAMP:20260424T101121
CREATED:20250118T204940Z
LAST-MODIFIED:20250130T165206Z
UID:5021-1738328400-1738333800@ukesters.com
SUMMARY:Aloha Pō’alima
DESCRIPTION:Aloha Pō’alima (Aloha Friday) is an informal gathering to focus on Hawaiian music\, language\, and culture. \nJoin us this week for Hapa Haole Fifth Friday! Feel free to being a snack or beverage to share. \n \nPlease organize your music ahead of time using the list (once provided) below\, or you can DOWNLOAD THIS PDF file for use with electronic devices. \nSong sheets can be found on the Aloha Friday page\, or the Gig Song PDFs page. \n\nAloha Friday UKEʻsters\nIsland Style\nRhythm of the Ocean (short version)\nSurf\nI Miss You My Hawaii\nWhite Sandy Beach\nMy Sweet Gardenia Lei\nKamalani\nWaikiki\nStrolling on the Beach at Waikiki\nSweet Lady of Waiahole\nMakaha Moon\nMele of my Tutu E\nPearly Shells\nSweet Someone\nIn a little Hula Heaven\nDrop Baby Drop\nHe Aloha Mele\nNot Pau
URL:https://ukesters.com/event/aloha-poalima-22/
LOCATION:Hale ‘o Kalena\, available by request\, Bellevue\, WA\, 98008
ATTACH;FMTTYPE=image/jpeg:https://ukesters.com/wp-content/uploads/2022/06/AF.jpg
END:VEVENT
END:VCALENDAR