BEGIN:VCALENDAR
VERSION:2.0
PRODID:-//Bellevue UKE&#039;sters - ECPv6.15.20//NONSGML v1.0//EN
CALSCALE:GREGORIAN
METHOD:PUBLISH
X-WR-CALNAME:Bellevue UKE&#039;sters
X-ORIGINAL-URL:https://ukesters.com
X-WR-CALDESC:Events for Bellevue UKE&#039;sters
REFRESH-INTERVAL;VALUE=DURATION:PT1H
X-Robots-Tag:noindex
X-PUBLISHED-TTL:PT1H
BEGIN:VTIMEZONE
TZID:America/Los_Angeles
BEGIN:DAYLIGHT
TZOFFSETFROM:-0800
TZOFFSETTO:-0700
TZNAME:PDT
DTSTART:20240310T100000
END:DAYLIGHT
BEGIN:STANDARD
TZOFFSETFROM:-0700
TZOFFSETTO:-0800
TZNAME:PST
DTSTART:20241103T090000
END:STANDARD
BEGIN:DAYLIGHT
TZOFFSETFROM:-0800
TZOFFSETTO:-0700
TZNAME:PDT
DTSTART:20250309T100000
END:DAYLIGHT
BEGIN:STANDARD
TZOFFSETFROM:-0700
TZOFFSETTO:-0800
TZNAME:PST
DTSTART:20251102T090000
END:STANDARD
BEGIN:DAYLIGHT
TZOFFSETFROM:-0800
TZOFFSETTO:-0700
TZNAME:PDT
DTSTART:20260308T100000
END:DAYLIGHT
BEGIN:STANDARD
TZOFFSETFROM:-0700
TZOFFSETTO:-0800
TZNAME:PST
DTSTART:20261101T090000
END:STANDARD
END:VTIMEZONE
BEGIN:VEVENT
DTSTART;TZID=America/Los_Angeles:20250205T130000
DTEND;TZID=America/Los_Angeles:20250205T143000
DTSTAMP:20260424T084726
CREATED:20250113T204736Z
LAST-MODIFIED:20250113T204736Z
UID:5004-1738760400-1738765800@ukesters.com
SUMMARY:Song Circle
DESCRIPTION:Before we start song circle\, we will practice a few gig songs to keep them fresh! \nAfter that\, we’ll rock and roll to songs of the fifties for song circle. Check out the songs we have posted on the website and bring a list of your favorites. \nMusic from the 50’s can be found under our THEME SONGS. (Songs for song circle can also be chosen from  our  GIG SONGS) \n 
URL:https://ukesters.com/event/song-circle-37/
ATTACH;FMTTYPE=image/jpeg:https://ukesters.com/wp-content/uploads/2024/11/360ukulele.jpg
END:VEVENT
BEGIN:VEVENT
DTSTART;TZID=America/Los_Angeles:20250207T130000
DTEND;TZID=America/Los_Angeles:20250207T143000
DTSTAMP:20260424T084726
CREATED:20250125T184643Z
LAST-MODIFIED:20250206T194852Z
UID:5029-1738933200-1738938600@ukesters.com
SUMMARY:Aloha Pō’alima
DESCRIPTION:Aloha Pō’alima (Aloha Friday) is an informal gathering to focus on Hawaiian music\, language\, and culture. \nPlease organize your music ahead of time using the list (once provided) below\, or you can DOWNLOAD THIS PDF file we will provide here for use with electronic devices. \nSong sheets can be found on the Aloha Friday page\, or the Gig Song PDFs page \n\nOli Aloha\nAloha Friday UKEʻsters\nTewetewe\nWaipiʻi\nHaleakala (Kekona)\nMaikaʻi No Kauaʻi\nMy Tropical Baby (NEW)\nIʻll remember You\nMokihana Medley\nE Nani E\nLittle Grass Shack Brown Gal Medley\nPili Mau me ʻOe (F/G)\nPaniolo Country\nMalieʻs Song (A)\nKo Keʻe\nHele on to Kauaʻi\nUlupalakua\nNoho Paipai\nNot Pau
URL:https://ukesters.com/event/aloha-poalima-23/
LOCATION:Bellevue Public Library Meeting Room 2\, 1111 110th Avenue NE\, Bellevue\, WA\, 98004\, United States
ATTACH;FMTTYPE=image/jpeg:https://ukesters.com/wp-content/uploads/2022/06/AF.jpg
END:VEVENT
BEGIN:VEVENT
DTSTART;TZID=America/Los_Angeles:20250212T130000
DTEND;TZID=America/Los_Angeles:20250212T143000
DTSTAMP:20260424T084726
CREATED:20250113T203723Z
LAST-MODIFIED:20250113T203723Z
UID:4997-1739365200-1739370600@ukesters.com
SUMMARY:Song Circle
DESCRIPTION:After we practice a few gig songs to keep them fresh\, we will continue with a song circle. \nBring a list of your favorites to be ready when your turn comes along! \nThis week songs may be chosen from the MISC SONGS or  GIG SONGS
URL:https://ukesters.com/event/song-circle-34/
ATTACH;FMTTYPE=image/jpeg:https://ukesters.com/wp-content/uploads/2024/11/360ukulele.jpg
END:VEVENT
BEGIN:VEVENT
DTSTART;TZID=America/Los_Angeles:20250219T130000
DTEND;TZID=America/Los_Angeles:20250219T143000
DTSTAMP:20260424T084726
CREATED:20250113T203944Z
LAST-MODIFIED:20250113T203944Z
UID:4999-1739970000-1739975400@ukesters.com
SUMMARY:Song Circle
DESCRIPTION:Bring a list of options for participating in our song circle. \nSongs may be chosen from the TEAL BOOK\, and GIG SONGS .
URL:https://ukesters.com/event/song-circle-35/
ATTACH;FMTTYPE=image/jpeg:https://ukesters.com/wp-content/uploads/2024/11/360ukulele.jpg
END:VEVENT
BEGIN:VEVENT
DTSTART;TZID=America/Los_Angeles:20250221T120000
DTEND;TZID=America/Los_Angeles:20250221T140000
DTSTAMP:20260424T084726
CREATED:20250125T184805Z
LAST-MODIFIED:20250219T185128Z
UID:5031-1740139200-1740146400@ukesters.com
SUMMARY:Aloha Pō’alima
DESCRIPTION:Aloha Pō’alima (Aloha Friday) is an informal gathering to focus on Hawaiian music\, language\, and culture. \nNEW TIME AND PLACE! We will meet from 12:00pm to 2:00pm at the Lake Hills Library Meeting Room (see bottom of page for address) \nPlease organize your music ahead of time using the list (once provided) below\, or you can DOWNLOAD THIS PDF file for use with electronic devices. \nSong sheets can be found on the Aloha Friday page\, or the Gig Song PDFs page \n\nAloha Friday UKEʻsters\nSpread a Little Aloha\nTewetewe\nHaleakala (Kekona)\nWaipiʻi\nMokihana Medley\nMy Tropical Baby\nSong of Old Hawaiʻi\nKa Uluwehi O Ke Kai (in C\, for Hula)\nBeautiful Kauaʻi\nPili Mau Me ʻOe (in C)\nE Hihiwai\nPretty Red Hibiscus\nKauanoeanuhea\nE Nani E\nMalieʻs Song (A)\nLiving on Easy\nUlupalakua\nHawaii Aloha
URL:https://ukesters.com/event/aloha-poalima-24/
LOCATION:LakeHills Library Meeting Room\, 15590 Lake Hills Boulevard\, Bellevue\, WA\, 98007\, United States
ATTACH;FMTTYPE=image/jpeg:https://ukesters.com/wp-content/uploads/2022/06/AF.jpg
END:VEVENT
BEGIN:VEVENT
DTSTART;TZID=America/Los_Angeles:20250226T130000
DTEND;TZID=America/Los_Angeles:20250226T143000
DTSTAMP:20260424T084726
CREATED:20250113T204151Z
LAST-MODIFIED:20250113T204151Z
UID:5002-1740574800-1740580200@ukesters.com
SUMMARY:Song Circle
DESCRIPTION:Come prepared with a list of songs for our weekly song circle. \nThis week\, choose from the PURPLE BOOK or the GIG SONGS
URL:https://ukesters.com/event/song-circle-36/
ATTACH;FMTTYPE=image/jpeg:https://ukesters.com/wp-content/uploads/2024/11/360ukulele.jpg
END:VEVENT
END:VCALENDAR