BEGIN:VCALENDAR
VERSION:2.0
PRODID:-//Bellevue UKE&#039;sters - ECPv6.15.20//NONSGML v1.0//EN
CALSCALE:GREGORIAN
METHOD:PUBLISH
X-ORIGINAL-URL:https://ukesters.com
X-WR-CALDESC:Events for Bellevue UKE&#039;sters
REFRESH-INTERVAL;VALUE=DURATION:PT1H
X-Robots-Tag:noindex
X-PUBLISHED-TTL:PT1H
BEGIN:VTIMEZONE
TZID:America/Los_Angeles
BEGIN:DAYLIGHT
TZOFFSETFROM:-0800
TZOFFSETTO:-0700
TZNAME:PDT
DTSTART:20240310T100000
END:DAYLIGHT
BEGIN:STANDARD
TZOFFSETFROM:-0700
TZOFFSETTO:-0800
TZNAME:PST
DTSTART:20241103T090000
END:STANDARD
BEGIN:DAYLIGHT
TZOFFSETFROM:-0800
TZOFFSETTO:-0700
TZNAME:PDT
DTSTART:20250309T100000
END:DAYLIGHT
BEGIN:STANDARD
TZOFFSETFROM:-0700
TZOFFSETTO:-0800
TZNAME:PST
DTSTART:20251102T090000
END:STANDARD
BEGIN:DAYLIGHT
TZOFFSETFROM:-0800
TZOFFSETTO:-0700
TZNAME:PDT
DTSTART:20260308T100000
END:DAYLIGHT
BEGIN:STANDARD
TZOFFSETFROM:-0700
TZOFFSETTO:-0800
TZNAME:PST
DTSTART:20261101T090000
END:STANDARD
END:VTIMEZONE
BEGIN:VEVENT
DTSTART;TZID=America/Los_Angeles:20250305T130000
DTEND;TZID=America/Los_Angeles:20250305T143000
DTSTAMP:20260424T073418
CREATED:20250206T195206Z
LAST-MODIFIED:20250206T195206Z
UID:5074-1741179600-1741185000@ukesters.com
SUMMARY:Song Circle
DESCRIPTION:Come prepared with a list of songs for our weekly song circle. \nThis week\, choose from the PURPLE BOOK or the GIG SONGS
URL:https://ukesters.com/event/song-circle-38/
ATTACH;FMTTYPE=image/jpeg:https://ukesters.com/wp-content/uploads/2024/11/360ukulele.jpg
END:VEVENT
BEGIN:VEVENT
DTSTART;TZID=America/Los_Angeles:20250307T130000
DTEND;TZID=America/Los_Angeles:20250307T150000
DTSTAMP:20260424T073418
CREATED:20250125T184932Z
LAST-MODIFIED:20250305T234942Z
UID:5033-1741352400-1741359600@ukesters.com
SUMMARY:Aloha Pō’alima
DESCRIPTION:Aloha Pō’alima (Aloha Friday) is an informal gathering to focus on Hawaiian music\, language\, and culture. \nPlease organize your music ahead of time using the list (once provided) below\, or you can DOWNLOAD THIS PDF file for use with electronic devices. \nSong sheets can be found on the Aloha Friday page\, or the Gig Song PDFs page \n\nOli Aloha\nAloha Friday UKEʻsters\nTewetewe\nWaipiʻi\nHaleakalā (Kekona)\nMy Tropical Baby\nSweet Someone\nStrolling on the Beach at Waikiki\nIʻll Remember You\nE Hihiwai\nE Nani E\nMolokaʻi Sweet Home\nMahina Hoku/Aloha Wau Medley\nPaniolo Country\nMakee ʻAilana\nKokeʻe\nHe Hawaiʻi Au\nUlupalakua\nNoho Paipai\nNot Pau\n\n 
URL:https://ukesters.com/event/aloha-poalima-25/
LOCATION:LakeHills Library Meeting Room\, 15590 Lake Hills Boulevard\, Bellevue\, WA\, 98007\, United States
ATTACH;FMTTYPE=image/jpeg:https://ukesters.com/wp-content/uploads/2022/06/AF.jpg
END:VEVENT
BEGIN:VEVENT
DTSTART;TZID=America/Los_Angeles:20250312T130000
DTEND;TZID=America/Los_Angeles:20250312T143000
DTSTAMP:20260424T073418
CREATED:20250206T195620Z
LAST-MODIFIED:20250308T001341Z
UID:5076-1741784400-1741789800@ukesters.com
SUMMARY:Song Circle
DESCRIPTION:Come prepared with a list of songs for our weekly song circle. \nThis week wear your green! \nChoose from the St. Patrick’s Day songs listed under THEME SONGS or pick titles from the GIG SONGS
URL:https://ukesters.com/event/song-circle-39/
ATTACH;FMTTYPE=image/jpeg:https://ukesters.com/wp-content/uploads/2024/11/360ukulele.jpg
END:VEVENT
BEGIN:VEVENT
DTSTART;TZID=America/Los_Angeles:20250319T130000
DTEND;TZID=America/Los_Angeles:20250319T143000
DTSTAMP:20260424T073418
CREATED:20250206T195851Z
LAST-MODIFIED:20250206T195851Z
UID:5079-1742389200-1742394600@ukesters.com
SUMMARY:Song Circle
DESCRIPTION:After we practice a few gig songs to keep them fresh\, we will continue with a song circle. \nBring a list of your favorites to be ready when your turn comes along! \nThis week songs may be chosen from the MISC SONGS or  GIG SONGS
URL:https://ukesters.com/event/song-circle-40/
ATTACH;FMTTYPE=image/jpeg:https://ukesters.com/wp-content/uploads/2024/11/360ukulele.jpg
END:VEVENT
BEGIN:VEVENT
DTSTART;TZID=America/Los_Angeles:20250326T130000
DTEND;TZID=America/Los_Angeles:20250326T143000
DTSTAMP:20260424T073418
CREATED:20250206T200043Z
LAST-MODIFIED:20250206T200043Z
UID:5081-1742994000-1742999400@ukesters.com
SUMMARY:Song Circle
DESCRIPTION:Bring a list of options for participating in our song circle. \nSongs may be chosen from the TEAL BOOK\, and GIG SONGS .
URL:https://ukesters.com/event/song-circle-41/
ATTACH;FMTTYPE=image/jpeg:https://ukesters.com/wp-content/uploads/2024/11/360ukulele.jpg
END:VEVENT
BEGIN:VEVENT
DTSTART;TZID=America/Los_Angeles:20250328T130000
DTEND;TZID=America/Los_Angeles:20250328T143000
DTSTAMP:20260424T073418
CREATED:20250206T194336Z
LAST-MODIFIED:20250327T163116Z
UID:5065-1743166800-1743172200@ukesters.com
SUMMARY:Aloha Pō’alima
DESCRIPTION:Aloha Pō’alima (Aloha Friday) is an informal gathering to focus on Hawaiian music\, language\, and culture. \nThis Friday will be a celebration of the beginning of Spring\, and a pāʻina lā hanau (birthday party) for Glenn! \nFeel free to bring a snack and/or beverage to share. \n   \nPlease organize your music ahead of time using the list (once provided) below\, or you can DOWNLOAD THIS PDF file for use with electronic devices. \nSong sheets can be found on the Aloha Friday page\, or the Gig Song PDFs page. \n\nAloha Friday UKEʻsters\nIsland Style\nTewetewe\nHaleakala (Kekona)\nWaipiʻi\nRhythm of the Ocean\nMy Tropical Baby\nWaikiki Hula\nKa Uluwehi O Ke Kai (in C\, for Hula)\nBeautiful Kauaʻi\nMaikaʻi No Kauaʻi\nE Hihiwai\nPretty Red Hibiscus\nKauanoeanuhea\nE Nani E\nModel T\nMakaha Moon\nUlupalakua\nHawaii Aloha
URL:https://ukesters.com/event/aloha-poalima-26/
LOCATION:Hale ‘o Kalena\, available by request\, Bellevue\, WA\, 98008
ATTACH;FMTTYPE=image/jpeg:https://ukesters.com/wp-content/uploads/2022/06/AF.jpg
END:VEVENT
END:VCALENDAR