BEGIN:VCALENDAR
VERSION:2.0
PRODID:-//Bellevue UKE&#039;sters - ECPv6.15.20//NONSGML v1.0//EN
CALSCALE:GREGORIAN
METHOD:PUBLISH
X-WR-CALNAME:Bellevue UKE&#039;sters
X-ORIGINAL-URL:https://ukesters.com
X-WR-CALDESC:Events for Bellevue UKE&#039;sters
REFRESH-INTERVAL;VALUE=DURATION:PT1H
X-Robots-Tag:noindex
X-PUBLISHED-TTL:PT1H
BEGIN:VTIMEZONE
TZID:America/Los_Angeles
BEGIN:DAYLIGHT
TZOFFSETFROM:-0800
TZOFFSETTO:-0700
TZNAME:PDT
DTSTART:20250309T100000
END:DAYLIGHT
BEGIN:STANDARD
TZOFFSETFROM:-0700
TZOFFSETTO:-0800
TZNAME:PST
DTSTART:20251102T090000
END:STANDARD
BEGIN:DAYLIGHT
TZOFFSETFROM:-0800
TZOFFSETTO:-0700
TZNAME:PDT
DTSTART:20260308T100000
END:DAYLIGHT
BEGIN:STANDARD
TZOFFSETFROM:-0700
TZOFFSETTO:-0800
TZNAME:PST
DTSTART:20261101T090000
END:STANDARD
BEGIN:DAYLIGHT
TZOFFSETFROM:-0800
TZOFFSETTO:-0700
TZNAME:PDT
DTSTART:20270314T100000
END:DAYLIGHT
BEGIN:STANDARD
TZOFFSETFROM:-0700
TZOFFSETTO:-0800
TZNAME:PST
DTSTART:20271107T090000
END:STANDARD
END:VTIMEZONE
BEGIN:VEVENT
DTSTART;TZID=America/Los_Angeles:20260304T130000
DTEND;TZID=America/Los_Angeles:20260304T143000
DTSTAMP:20260423T160419
CREATED:20260205T214947Z
LAST-MODIFIED:20260205T215313Z
UID:6014-1772629200-1772634600@ukesters.com
SUMMARY:Open Mic and Song Circle
DESCRIPTION:This week you have an opportunity to get up and practice being on stage – in front of your friends! \nThis even is open to all\, and in all cofigurations: Individuals\, Duos\, Small groups. Beginners to advanced skills. \nIf you are freaked out being on stage alone\, consider forming a small group and then leading everyone in a song from our website – a great way to build confidence! \nMusic can be an instrumental\, a song from our website resources\, or a NEW song. \nTell Pete\, Kathy\, Ken\, or Suzanne to get your name on in the list. \nAfter open mic\, if time\, song circle will be using all song resources: TEAL BOOK\, PURPLE BOOK \, BROWN BOOK\, MISC SONGS \, GIG SONGS
URL:https://ukesters.com/event/open-mic-and-song-circle/
ATTACH;FMTTYPE=image/jpeg:https://ukesters.com/wp-content/uploads/2026/02/MicAndUke.jpg
END:VEVENT
BEGIN:VEVENT
DTSTART;TZID=America/Los_Angeles:20260306T130000
DTEND;TZID=America/Los_Angeles:20260306T143000
DTSTAMP:20260423T160419
CREATED:20260216T200346Z
LAST-MODIFIED:20260304T235612Z
UID:6045-1772802000-1772807400@ukesters.com
SUMMARY:Aloha Pō’alima
DESCRIPTION:Aloha Pō’alima (Aloha Friday) is an informal gathering to focus on Hawaiian music\, language\, and culture. \nPLEASE NOTE the return to 1:00pm meeting time!  \nWe will start playing music at 1:00pm (song circle style). Yolanda will join us as soon as she can. \nBefore you come\, please make a point of looking over the two song she has sent us: “I Ola Kakou Na Hawai’i” and “Misty Rains and Lehua” \nThe room is booked from 12:30 – 3:30. Bring a snack to share and talk story after we put down our ‘ukuleles. \n  \n 
URL:https://ukesters.com/event/aloha-poalima-42/
LOCATION:LakeHills Library Meeting Room\, 15590 Lake Hills Boulevard\, Bellevue\, WA\, 98007\, United States
ATTACH;FMTTYPE=image/jpeg:https://ukesters.com/wp-content/uploads/2022/06/AF.jpg
END:VEVENT
BEGIN:VEVENT
DTSTART;TZID=America/Los_Angeles:20260311T130000
DTEND;TZID=America/Los_Angeles:20260311T143000
DTSTAMP:20260423T160419
CREATED:20260207T230815Z
LAST-MODIFIED:20260207T230815Z
UID:6023-1773234000-1773239400@ukesters.com
SUMMARY:Song Circle
DESCRIPTION:Once we get practicing some selected gig songs our of the way\, song circle will focus on the BROWN BOOK or GIG SONGS \nCome prepared with some favorites!
URL:https://ukesters.com/event/song-circle-82/
ATTACH;FMTTYPE=image/jpeg:https://ukesters.com/wp-content/uploads/2025/12/3ukes.jpg
END:VEVENT
BEGIN:VEVENT
DTSTART;TZID=America/Los_Angeles:20260318T130000
DTEND;TZID=America/Los_Angeles:20260318T143000
DTSTAMP:20260423T160419
CREATED:20260207T231451Z
LAST-MODIFIED:20260207T231451Z
UID:6027-1773838800-1773844200@ukesters.com
SUMMARY:Song Circle
DESCRIPTION:If there is work to do on gig songs\, it will be first. \nAfter that – celebrate St. Patricks Day with a song circle! Music can be found under our THEME SONGS. (Songs for song circle can also be chosen from our GIG SONGS)
URL:https://ukesters.com/event/song-circle-84/
ATTACH;FMTTYPE=image/jpeg:https://ukesters.com/wp-content/uploads/2025/12/3ukes.jpg
END:VEVENT
BEGIN:VEVENT
DTSTART;TZID=America/Los_Angeles:20260325T130000
DTEND;TZID=America/Los_Angeles:20260325T143000
DTSTAMP:20260423T160419
CREATED:20260207T231104Z
LAST-MODIFIED:20260207T231104Z
UID:6025-1774443600-1774449000@ukesters.com
SUMMARY:Song Circle
DESCRIPTION:As we do\, first there will be some practice of gig songs. \nOnce that is done\, song circle! We will concentrate on songs from the TEAL BOOK\, and/or GIG SONGS
URL:https://ukesters.com/event/song-circle-83/
ATTACH;FMTTYPE=image/jpeg:https://ukesters.com/wp-content/uploads/2025/12/3ukes.jpg
END:VEVENT
END:VCALENDAR